BEGIN:VCALENDAR
VERSION:2.0
PRODID:-//wp-events-plugin.com//5.99912//EN
TZID:Europe/Berlin
X-WR-TIMEZONE:Europe/Berlin
BEGIN:VEVENT
UID:0-320@reichenbachfils.albverein.eu
DTSTART;TZID=Europe/Berlin:20260514T081500
DTEND;TZID=Europe/Berlin:20260514T081500
DTSTAMP:20260422T074411Z
URL:https://reichenbachfils.albverein.eu/events/beutelsbach-die-wiege-des-
 hauses-wuerttemberg/
SUMMARY:Beutelsbach\, die Wiege des Hauses Württemberg
DESCRIPTION:Am Tag des Wanderns\, dem Donnerstag\, 14.Mai 2026 (auch Himmel
 fahrt!)\, machen wir einen Ausflug nach Beutelsbach\, der Wiege des Hauses
  Württemberg\, und dort einen Rundgang mit Führung.\n\nWir treffen uns u
 m 8:15 Uhr am Rondell\, fahren in Fahrgemeinschaften nach Baltmannsweiler 
 und dann zusammen mit den dortigen Wanderfreunden nach Schnait.\n\nVon dor
 t wandern wir nach Beutelsbach (ca.3 km) zum Rundgang mit Jürgen Gruß. Z
 wischendurch Mittagessen im „Löwen“. Gegen 15 Uhr wandern wir wieder 
 zurück nach Schnait. Schlusseinkehr ist möglich.\n\nGäste sind wie imme
 r herzlich willkommen.\n\nBitte unbedingt anmelden bei Rolf Höger\, Tel. 
 52618.
END:VEVENT
BEGIN:VTIMEZONE
TZID:Europe/Berlin
X-LIC-LOCATION:Europe/Berlin
BEGIN:DAYLIGHT
DTSTART:20260329T030000
TZOFFSETFROM:+0100
TZOFFSETTO:+0200
TZNAME:CEST
END:DAYLIGHT
END:VTIMEZONE
END:VCALENDAR